BEGIN:VCALENDAR
VERSION:2.0
PRODID:-//Amicalola Falls State Park &amp; Lodge - Dawsonville, GA - ECPv6.15.20//NONSGML v1.0//EN
CALSCALE:GREGORIAN
METHOD:PUBLISH
X-ORIGINAL-URL:https://amicalolafallslodge.com
X-WR-CALDESC:Events for Amicalola Falls State Park &amp; Lodge - Dawsonville, GA
REFRESH-INTERVAL;VALUE=DURATION:PT1H
X-Robots-Tag:noindex
X-PUBLISHED-TTL:PT1H
BEGIN:VTIMEZONE
TZID:America/New_York
BEGIN:DAYLIGHT
TZOFFSETFROM:-0500
TZOFFSETTO:-0400
TZNAME:EDT
DTSTART:20240310T070000
END:DAYLIGHT
BEGIN:STANDARD
TZOFFSETFROM:-0400
TZOFFSETTO:-0500
TZNAME:EST
DTSTART:20241103T060000
END:STANDARD
BEGIN:DAYLIGHT
TZOFFSETFROM:-0500
TZOFFSETTO:-0400
TZNAME:EDT
DTSTART:20250309T070000
END:DAYLIGHT
BEGIN:STANDARD
TZOFFSETFROM:-0400
TZOFFSETTO:-0500
TZNAME:EST
DTSTART:20251102T060000
END:STANDARD
BEGIN:DAYLIGHT
TZOFFSETFROM:-0500
TZOFFSETTO:-0400
TZNAME:EDT
DTSTART:20260308T070000
END:DAYLIGHT
BEGIN:STANDARD
TZOFFSETFROM:-0400
TZOFFSETTO:-0500
TZNAME:EST
DTSTART:20261101T060000
END:STANDARD
END:VTIMEZONE
BEGIN:VEVENT
DTSTART;TZID=America/New_York:20250720T113000
DTEND;TZID=America/New_York:20250720T143000
DTSTAMP:20260421T160235
CREATED:20250620T201003Z
LAST-MODIFIED:20250620T201003Z
UID:10002054-1753011000-1753021800@amicalolafallslodge.com
SUMMARY:Sunday Brunch at Cascades
DESCRIPTION:Join us in Cascades every Sunday from 11:30am – 2:30pm for a classic Southern-style brunch. Make reservations online ahead of your arrival.
URL:https://amicalolafallslodge.com/event/sunday-brunch-at-cascades/2025-07-20/
LOCATION:Cascades Restaurant\, 418 Amicalola Falls Lodge Road\, Dawsonville\, GA\, 30534\, United States
END:VEVENT
BEGIN:VEVENT
DTSTART;TZID=America/New_York:20250713T113000
DTEND;TZID=America/New_York:20250713T143000
DTSTAMP:20260421T160235
CREATED:20250620T201003Z
LAST-MODIFIED:20250620T201003Z
UID:10002053-1752406200-1752417000@amicalolafallslodge.com
SUMMARY:Sunday Brunch at Cascades
DESCRIPTION:Join us in Cascades every Sunday from 11:30am – 2:30pm for a classic Southern-style brunch. Make reservations online ahead of your arrival.
URL:https://amicalolafallslodge.com/event/sunday-brunch-at-cascades/2025-07-13/
LOCATION:Cascades Restaurant\, 418 Amicalola Falls Lodge Road\, Dawsonville\, GA\, 30534\, United States
END:VEVENT
BEGIN:VEVENT
DTSTART;TZID=America/New_York:20250706T113000
DTEND;TZID=America/New_York:20250706T143000
DTSTAMP:20260421T160235
CREATED:20250620T201003Z
LAST-MODIFIED:20250620T201003Z
UID:10002052-1751801400-1751812200@amicalolafallslodge.com
SUMMARY:Sunday Brunch at Cascades
DESCRIPTION:Join us in Cascades every Sunday from 11:30am – 2:30pm for a classic Southern-style brunch. Make reservations online ahead of your arrival.
URL:https://amicalolafallslodge.com/event/sunday-brunch-at-cascades/2025-07-06/
LOCATION:Cascades Restaurant\, 418 Amicalola Falls Lodge Road\, Dawsonville\, GA\, 30534\, United States
END:VEVENT
BEGIN:VEVENT
DTSTART;TZID=America/New_York:20250629T113000
DTEND;TZID=America/New_York:20250629T143000
DTSTAMP:20260421T160235
CREATED:20250620T201003Z
LAST-MODIFIED:20250620T201003Z
UID:10002051-1751196600-1751207400@amicalolafallslodge.com
SUMMARY:Sunday Brunch at Cascades
DESCRIPTION:Join us in Cascades every Sunday from 11:30am – 2:30pm for a classic Southern-style brunch. Make reservations online ahead of your arrival.
URL:https://amicalolafallslodge.com/event/sunday-brunch-at-cascades/2025-06-29/
LOCATION:Cascades Restaurant\, 418 Amicalola Falls Lodge Road\, Dawsonville\, GA\, 30534\, United States
END:VEVENT
BEGIN:VEVENT
DTSTART;TZID=America/New_York:20250622T113000
DTEND;TZID=America/New_York:20250622T143000
DTSTAMP:20260421T160235
CREATED:20250620T201003Z
LAST-MODIFIED:20250620T201003Z
UID:10002050-1750591800-1750602600@amicalolafallslodge.com
SUMMARY:Sunday Brunch at Cascades
DESCRIPTION:Join us in Cascades every Sunday from 11:30am – 2:30pm for a classic Southern-style brunch. Make reservations online ahead of your arrival.
URL:https://amicalolafallslodge.com/event/sunday-brunch-at-cascades/2025-06-22/
LOCATION:Cascades Restaurant\, 418 Amicalola Falls Lodge Road\, Dawsonville\, GA\, 30534\, United States
END:VEVENT
BEGIN:VEVENT
DTSTART;VALUE=DATE:20250615
DTEND;VALUE=DATE:20250616
DTSTAMP:20260421T160235
CREATED:20250613T175613Z
LAST-MODIFIED:20250613T175613Z
UID:10002049-1749945600-1750031999@amicalolafallslodge.com
SUMMARY:Father's Day Special
DESCRIPTION:Today only in Cascades in the lodge\, enjoy this $40 Father’s Day Special!
URL:https://amicalolafallslodge.com/event/fathers-day-special/
LOCATION:Cascades Restaurant\, 418 Amicalola Falls Lodge Road\, Dawsonville\, GA\, 30534\, United States
END:VEVENT
BEGIN:VEVENT
DTSTART;VALUE=DATE:20250615
DTEND;VALUE=DATE:20250616
DTSTAMP:20260421T160235
CREATED:20250610T153742Z
LAST-MODIFIED:20250610T155300Z
UID:10002048-1749945600-1750031999@amicalolafallslodge.com
SUMMARY:Father's Day Beer Bucket Special
DESCRIPTION:Joining us at Cascades in the lodge this Sunday\, June 15\, 2025\, for a Father’s Day lunch or dinner? Meeting up with friends at the bar? Take advantage of our Father’s Day Beer Bucket Special! Get 6 bottles on ice for only $25. Brands include Corona\, Modelo\, Stella Artois\, Daycation and Michelob Ultra. Exclusions apply.
URL:https://amicalolafallslodge.com/event/fathers-day-beer-bucket-special/
LOCATION:Cascades Restaurant\, 418 Amicalola Falls Lodge Road\, Dawsonville\, GA\, 30534\, United States
END:VEVENT
BEGIN:VEVENT
DTSTART;TZID=America/New_York:20250511T113000
DTEND;TZID=America/New_York:20250511T143000
DTSTAMP:20260421T160235
CREATED:20250429T151751Z
LAST-MODIFIED:20250429T153446Z
UID:10001920-1746963000-1746973800@amicalolafallslodge.com
SUMMARY:Mother's Day Brunch
DESCRIPTION:Join us in Cascades at Amicalola Falls Lodge on Sunday\, May 11\, 2025 from 11:30am – 2:30pm. Adults are $45.99\, Seniors are $30.99 and Children are $13.99. Bottomless Mimosas for only $16.99. Make a reservation online at https://reservations.shift4payments.com/#/83303058-d870-4b8e-893d-42dfb13b3947
URL:https://amicalolafallslodge.com/event/mothers-day-brunch/
LOCATION:Cascades Restaurant\, 418 Amicalola Falls Lodge Road\, Dawsonville\, GA\, 30534\, United States
END:VEVENT
BEGIN:VEVENT
DTSTART;TZID=America/New_York:20250420T113000
DTEND;TZID=America/New_York:20250420T143000
DTSTAMP:20260421T160235
CREATED:20250325T203530Z
LAST-MODIFIED:20250325T203530Z
UID:10001778-1745148600-1745159400@amicalolafallslodge.com
SUMMARY:Easter Sunday Brunch
DESCRIPTION:Join us in Cascades for a very special Easter Sunday Brunch on Sunday\, April 20\, 2025 from 11:30am – 2:30pm. Reservations are not required\, but recommended and can be made online here.
URL:https://amicalolafallslodge.com/event/easter-sunday-brunch/
LOCATION:Cascades Restaurant\, 418 Amicalola Falls Lodge Road\, Dawsonville\, GA\, 30534\, United States
END:VEVENT
END:VCALENDAR