BEGIN:VCALENDAR
VERSION:2.0
PRODID:-//Amicalola Falls State Park &amp; Lodge - Dawsonville, GA - ECPv6.15.20//NONSGML v1.0//EN
CALSCALE:GREGORIAN
METHOD:PUBLISH
X-WR-CALNAME:Amicalola Falls State Park &amp; Lodge - Dawsonville, GA
X-ORIGINAL-URL:https://amicalolafallslodge.com
X-WR-CALDESC:Events for Amicalola Falls State Park &amp; Lodge - Dawsonville, GA
REFRESH-INTERVAL;VALUE=DURATION:PT1H
X-Robots-Tag:noindex
X-PUBLISHED-TTL:PT1H
BEGIN:VTIMEZONE
TZID:America/New_York
BEGIN:DAYLIGHT
TZOFFSETFROM:-0500
TZOFFSETTO:-0400
TZNAME:EDT
DTSTART:20250309T070000
END:DAYLIGHT
BEGIN:STANDARD
TZOFFSETFROM:-0400
TZOFFSETTO:-0500
TZNAME:EST
DTSTART:20251102T060000
END:STANDARD
BEGIN:DAYLIGHT
TZOFFSETFROM:-0500
TZOFFSETTO:-0400
TZNAME:EDT
DTSTART:20260308T070000
END:DAYLIGHT
BEGIN:STANDARD
TZOFFSETFROM:-0400
TZOFFSETTO:-0500
TZNAME:EST
DTSTART:20261101T060000
END:STANDARD
BEGIN:DAYLIGHT
TZOFFSETFROM:-0500
TZOFFSETTO:-0400
TZNAME:EDT
DTSTART:20270314T070000
END:DAYLIGHT
BEGIN:STANDARD
TZOFFSETFROM:-0400
TZOFFSETTO:-0500
TZNAME:EST
DTSTART:20271107T060000
END:STANDARD
END:VTIMEZONE
BEGIN:VEVENT
DTSTART;TZID=America/New_York:20260502T200000
DTEND;TZID=America/New_York:20260502T210000
DTSTAMP:20260423T055135
CREATED:20260420T202003Z
LAST-MODIFIED:20260420T202003Z
UID:10002407-1777752000-1777755600@amicalolafallslodge.com
SUMMARY:Sunset Stories
DESCRIPTION:Gather around the campground firepit for an evening of stories under the stars! Professional storytellers will share captivating tales of Appalachian folklore\, local history\, and timeless traditions. Bring a chair\, a flashlight\, and your imagination for this one-hour program filled with laughter and mountain magic. Program is weather permitting. Reserve Your Spot Online
URL:https://amicalolafallslodge.com/event/sunset-stories-3/2026-05-02/
LOCATION:Campground Firepit\, 418 Amicalola Falls Lodge Road\, Dawsonville\, GA\, 30534\, United States
END:VEVENT
BEGIN:VEVENT
DTSTART;TZID=America/New_York:20260516T200000
DTEND;TZID=America/New_York:20260516T210000
DTSTAMP:20260423T055136
CREATED:20260420T202003Z
LAST-MODIFIED:20260420T202003Z
UID:10002408-1778961600-1778965200@amicalolafallslodge.com
SUMMARY:Sunset Stories
DESCRIPTION:Gather around the campground firepit for an evening of stories under the stars! Professional storytellers will share captivating tales of Appalachian folklore\, local history\, and timeless traditions. Bring a chair\, a flashlight\, and your imagination for this one-hour program filled with laughter and mountain magic. Program is weather permitting. Reserve Your Spot Online
URL:https://amicalolafallslodge.com/event/sunset-stories-3/2026-05-16/
LOCATION:Campground Firepit\, 418 Amicalola Falls Lodge Road\, Dawsonville\, GA\, 30534\, United States
END:VEVENT
BEGIN:VEVENT
DTSTART;TZID=America/New_York:20260530T200000
DTEND;TZID=America/New_York:20260530T210000
DTSTAMP:20260423T055136
CREATED:20260420T202003Z
LAST-MODIFIED:20260420T202003Z
UID:10002409-1780171200-1780174800@amicalolafallslodge.com
SUMMARY:Sunset Stories
DESCRIPTION:Gather around the campground firepit for an evening of stories under the stars! Professional storytellers will share captivating tales of Appalachian folklore\, local history\, and timeless traditions. Bring a chair\, a flashlight\, and your imagination for this one-hour program filled with laughter and mountain magic. Program is weather permitting. Reserve Your Spot Online
URL:https://amicalolafallslodge.com/event/sunset-stories-3/2026-05-30/
LOCATION:Campground Firepit\, 418 Amicalola Falls Lodge Road\, Dawsonville\, GA\, 30534\, United States
END:VEVENT
END:VCALENDAR