BEGIN:VCALENDAR
VERSION:2.0
PRODID:-//Amicalola Falls State Park &amp; Lodge - Dawsonville, GA - ECPv6.15.20//NONSGML v1.0//EN
CALSCALE:GREGORIAN
METHOD:PUBLISH
X-WR-CALNAME:Amicalola Falls State Park &amp; Lodge - Dawsonville, GA
X-ORIGINAL-URL:https://amicalolafallslodge.com
X-WR-CALDESC:Events for Amicalola Falls State Park &amp; Lodge - Dawsonville, GA
REFRESH-INTERVAL;VALUE=DURATION:PT1H
X-Robots-Tag:noindex
X-PUBLISHED-TTL:PT1H
BEGIN:VTIMEZONE
TZID:America/New_York
BEGIN:DAYLIGHT
TZOFFSETFROM:-0500
TZOFFSETTO:-0400
TZNAME:EDT
DTSTART:20250309T070000
END:DAYLIGHT
BEGIN:STANDARD
TZOFFSETFROM:-0400
TZOFFSETTO:-0500
TZNAME:EST
DTSTART:20251102T060000
END:STANDARD
BEGIN:DAYLIGHT
TZOFFSETFROM:-0500
TZOFFSETTO:-0400
TZNAME:EDT
DTSTART:20260308T070000
END:DAYLIGHT
BEGIN:STANDARD
TZOFFSETFROM:-0400
TZOFFSETTO:-0500
TZNAME:EST
DTSTART:20261101T060000
END:STANDARD
BEGIN:DAYLIGHT
TZOFFSETFROM:-0500
TZOFFSETTO:-0400
TZNAME:EDT
DTSTART:20270314T070000
END:DAYLIGHT
BEGIN:STANDARD
TZOFFSETFROM:-0400
TZOFFSETTO:-0500
TZNAME:EST
DTSTART:20271107T060000
END:STANDARD
END:VTIMEZONE
BEGIN:VEVENT
DTSTART;TZID=America/New_York:20260509T100000
DTEND;TZID=America/New_York:20260509T100000
DTSTAMP:20260421T164505
CREATED:20260420T201703Z
LAST-MODIFIED:20260420T201703Z
UID:10002405-1778320800-1778320800@amicalolafallslodge.com
SUMMARY:Nature Journaling
DESCRIPTION:Join us as we begin our illustrative walk through the seasons and nature! In this program\, we will be highlighting your individual interpretation of the surrounding environment while also strengthening your passion to discover\, observe\, be mindful\, and be creative! We supply the journals\, you bring the imagination! Where: Visitor Center Arch Room Reserve Your Spot Online
URL:https://amicalolafallslodge.com/event/nature-journaling-2/2026-05-09/
LOCATION:Visitor Center Arch Room\, 418 Amicalola Falls Lodge Road\, Dawsonville\, GA\, 30534\, United States
END:VEVENT
BEGIN:VEVENT
DTSTART;TZID=America/New_York:20260523T100000
DTEND;TZID=America/New_York:20260523T100000
DTSTAMP:20260421T164505
CREATED:20260420T201703Z
LAST-MODIFIED:20260420T201703Z
UID:10002406-1779530400-1779530400@amicalolafallslodge.com
SUMMARY:Nature Journaling
DESCRIPTION:Join us as we begin our illustrative walk through the seasons and nature! In this program\, we will be highlighting your individual interpretation of the surrounding environment while also strengthening your passion to discover\, observe\, be mindful\, and be creative! We supply the journals\, you bring the imagination! Where: Visitor Center Arch Room Reserve Your Spot Online
URL:https://amicalolafallslodge.com/event/nature-journaling-2/2026-05-23/
LOCATION:Visitor Center Arch Room\, 418 Amicalola Falls Lodge Road\, Dawsonville\, GA\, 30534\, United States
END:VEVENT
END:VCALENDAR