BEGIN:VCALENDAR
VERSION:2.0
PRODID:-//Amicalola Falls State Park &amp; Lodge - Dawsonville, GA - ECPv6.15.20//NONSGML v1.0//EN
CALSCALE:GREGORIAN
METHOD:PUBLISH
X-WR-CALNAME:Amicalola Falls State Park &amp; Lodge - Dawsonville, GA
X-ORIGINAL-URL:https://amicalolafallslodge.com
X-WR-CALDESC:Events for Amicalola Falls State Park &amp; Lodge - Dawsonville, GA
REFRESH-INTERVAL;VALUE=DURATION:PT1H
X-Robots-Tag:noindex
X-PUBLISHED-TTL:PT1H
BEGIN:VTIMEZONE
TZID:America/New_York
BEGIN:DAYLIGHT
TZOFFSETFROM:-0500
TZOFFSETTO:-0400
TZNAME:EDT
DTSTART:20250309T070000
END:DAYLIGHT
BEGIN:STANDARD
TZOFFSETFROM:-0400
TZOFFSETTO:-0500
TZNAME:EST
DTSTART:20251102T060000
END:STANDARD
BEGIN:DAYLIGHT
TZOFFSETFROM:-0500
TZOFFSETTO:-0400
TZNAME:EDT
DTSTART:20260308T070000
END:DAYLIGHT
BEGIN:STANDARD
TZOFFSETFROM:-0400
TZOFFSETTO:-0500
TZNAME:EST
DTSTART:20261101T060000
END:STANDARD
BEGIN:DAYLIGHT
TZOFFSETFROM:-0500
TZOFFSETTO:-0400
TZNAME:EDT
DTSTART:20270314T070000
END:DAYLIGHT
BEGIN:STANDARD
TZOFFSETFROM:-0400
TZOFFSETTO:-0500
TZNAME:EST
DTSTART:20271107T060000
END:STANDARD
END:VTIMEZONE
BEGIN:VEVENT
DTSTART;TZID=America/New_York:20260508T093000
DTEND;TZID=America/New_York:20260508T110000
DTSTAMP:20260421T111703
CREATED:20260420T201326Z
LAST-MODIFIED:20260420T201326Z
UID:10002144-1778232600-1778238000@amicalolafallslodge.com
SUMMARY:Guided Waterfall Hike
DESCRIPTION:Join an interpreter on an adventurous hike to Amicalola Falls! This 1.5mi hike begins at our Visitor Center and follows along Little Amicalola Creek to our magnificent waterfall! Come see one of Georgia’s 7 Natural Wonders! Note that a guide is not required to hike the trails. For questions\, email a guide at naturalist@amicalolafallslodge.com \nReserve Your Spot Online
URL:https://amicalolafallslodge.com/event/guided-waterfall-hike-3/2026-05-08/
END:VEVENT
BEGIN:VEVENT
DTSTART;TZID=America/New_York:20260515T093000
DTEND;TZID=America/New_York:20260515T110000
DTSTAMP:20260421T111703
CREATED:20260420T201326Z
LAST-MODIFIED:20260420T201326Z
UID:10002145-1778837400-1778842800@amicalolafallslodge.com
SUMMARY:Guided Waterfall Hike
DESCRIPTION:Join an interpreter on an adventurous hike to Amicalola Falls! This 1.5mi hike begins at our Visitor Center and follows along Little Amicalola Creek to our magnificent waterfall! Come see one of Georgia’s 7 Natural Wonders! Note that a guide is not required to hike the trails. For questions\, email a guide at naturalist@amicalolafallslodge.com \nReserve Your Spot Online
URL:https://amicalolafallslodge.com/event/guided-waterfall-hike-3/2026-05-15/
END:VEVENT
BEGIN:VEVENT
DTSTART;TZID=America/New_York:20260522T093000
DTEND;TZID=America/New_York:20260522T110000
DTSTAMP:20260421T111703
CREATED:20260420T201326Z
LAST-MODIFIED:20260420T201326Z
UID:10002146-1779442200-1779447600@amicalolafallslodge.com
SUMMARY:Guided Waterfall Hike
DESCRIPTION:Join an interpreter on an adventurous hike to Amicalola Falls! This 1.5mi hike begins at our Visitor Center and follows along Little Amicalola Creek to our magnificent waterfall! Come see one of Georgia’s 7 Natural Wonders! Note that a guide is not required to hike the trails. For questions\, email a guide at naturalist@amicalolafallslodge.com \nReserve Your Spot Online
URL:https://amicalolafallslodge.com/event/guided-waterfall-hike-3/2026-05-22/
END:VEVENT
BEGIN:VEVENT
DTSTART;TZID=America/New_York:20260529T093000
DTEND;TZID=America/New_York:20260529T110000
DTSTAMP:20260421T111703
CREATED:20260420T201326Z
LAST-MODIFIED:20260420T201326Z
UID:10002147-1780047000-1780052400@amicalolafallslodge.com
SUMMARY:Guided Waterfall Hike
DESCRIPTION:Join an interpreter on an adventurous hike to Amicalola Falls! This 1.5mi hike begins at our Visitor Center and follows along Little Amicalola Creek to our magnificent waterfall! Come see one of Georgia’s 7 Natural Wonders! Note that a guide is not required to hike the trails. For questions\, email a guide at naturalist@amicalolafallslodge.com \nReserve Your Spot Online
URL:https://amicalolafallslodge.com/event/guided-waterfall-hike-3/2026-05-29/
END:VEVENT
BEGIN:VEVENT
DTSTART;TZID=America/New_York:20260605T093000
DTEND;TZID=America/New_York:20260605T110000
DTSTAMP:20260421T111703
CREATED:20260420T201326Z
LAST-MODIFIED:20260420T201326Z
UID:10002148-1780651800-1780657200@amicalolafallslodge.com
SUMMARY:Guided Waterfall Hike
DESCRIPTION:Join an interpreter on an adventurous hike to Amicalola Falls! This 1.5mi hike begins at our Visitor Center and follows along Little Amicalola Creek to our magnificent waterfall! Come see one of Georgia’s 7 Natural Wonders! Note that a guide is not required to hike the trails. For questions\, email a guide at naturalist@amicalolafallslodge.com \nReserve Your Spot Online
URL:https://amicalolafallslodge.com/event/guided-waterfall-hike-3/2026-06-05/
END:VEVENT
BEGIN:VEVENT
DTSTART;TZID=America/New_York:20260612T093000
DTEND;TZID=America/New_York:20260612T110000
DTSTAMP:20260421T111703
CREATED:20260420T201326Z
LAST-MODIFIED:20260420T201326Z
UID:10002149-1781256600-1781262000@amicalolafallslodge.com
SUMMARY:Guided Waterfall Hike
DESCRIPTION:Join an interpreter on an adventurous hike to Amicalola Falls! This 1.5mi hike begins at our Visitor Center and follows along Little Amicalola Creek to our magnificent waterfall! Come see one of Georgia’s 7 Natural Wonders! Note that a guide is not required to hike the trails. For questions\, email a guide at naturalist@amicalolafallslodge.com \nReserve Your Spot Online
URL:https://amicalolafallslodge.com/event/guided-waterfall-hike-3/2026-06-12/
END:VEVENT
BEGIN:VEVENT
DTSTART;TZID=America/New_York:20260619T093000
DTEND;TZID=America/New_York:20260619T110000
DTSTAMP:20260421T111703
CREATED:20260420T201326Z
LAST-MODIFIED:20260420T201326Z
UID:10002150-1781861400-1781866800@amicalolafallslodge.com
SUMMARY:Guided Waterfall Hike
DESCRIPTION:Join an interpreter on an adventurous hike to Amicalola Falls! This 1.5mi hike begins at our Visitor Center and follows along Little Amicalola Creek to our magnificent waterfall! Come see one of Georgia’s 7 Natural Wonders! Note that a guide is not required to hike the trails. For questions\, email a guide at naturalist@amicalolafallslodge.com \nReserve Your Spot Online
URL:https://amicalolafallslodge.com/event/guided-waterfall-hike-3/2026-06-19/
END:VEVENT
BEGIN:VEVENT
DTSTART;TZID=America/New_York:20260626T093000
DTEND;TZID=America/New_York:20260626T110000
DTSTAMP:20260421T111703
CREATED:20260420T201326Z
LAST-MODIFIED:20260420T201326Z
UID:10002151-1782466200-1782471600@amicalolafallslodge.com
SUMMARY:Guided Waterfall Hike
DESCRIPTION:Join an interpreter on an adventurous hike to Amicalola Falls! This 1.5mi hike begins at our Visitor Center and follows along Little Amicalola Creek to our magnificent waterfall! Come see one of Georgia’s 7 Natural Wonders! Note that a guide is not required to hike the trails. For questions\, email a guide at naturalist@amicalolafallslodge.com \nReserve Your Spot Online
URL:https://amicalolafallslodge.com/event/guided-waterfall-hike-3/2026-06-26/
END:VEVENT
BEGIN:VEVENT
DTSTART;TZID=America/New_York:20260703T093000
DTEND;TZID=America/New_York:20260703T110000
DTSTAMP:20260421T111703
CREATED:20260420T201326Z
LAST-MODIFIED:20260420T201326Z
UID:10002152-1783071000-1783076400@amicalolafallslodge.com
SUMMARY:Guided Waterfall Hike
DESCRIPTION:Join an interpreter on an adventurous hike to Amicalola Falls! This 1.5mi hike begins at our Visitor Center and follows along Little Amicalola Creek to our magnificent waterfall! Come see one of Georgia’s 7 Natural Wonders! Note that a guide is not required to hike the trails. For questions\, email a guide at naturalist@amicalolafallslodge.com \nReserve Your Spot Online
URL:https://amicalolafallslodge.com/event/guided-waterfall-hike-3/2026-07-03/
END:VEVENT
BEGIN:VEVENT
DTSTART;TZID=America/New_York:20260710T093000
DTEND;TZID=America/New_York:20260710T110000
DTSTAMP:20260421T111703
CREATED:20260420T201326Z
LAST-MODIFIED:20260420T201326Z
UID:10002153-1783675800-1783681200@amicalolafallslodge.com
SUMMARY:Guided Waterfall Hike
DESCRIPTION:Join an interpreter on an adventurous hike to Amicalola Falls! This 1.5mi hike begins at our Visitor Center and follows along Little Amicalola Creek to our magnificent waterfall! Come see one of Georgia’s 7 Natural Wonders! Note that a guide is not required to hike the trails. For questions\, email a guide at naturalist@amicalolafallslodge.com \nReserve Your Spot Online
URL:https://amicalolafallslodge.com/event/guided-waterfall-hike-3/2026-07-10/
END:VEVENT
BEGIN:VEVENT
DTSTART;TZID=America/New_York:20260717T093000
DTEND;TZID=America/New_York:20260717T110000
DTSTAMP:20260421T111703
CREATED:20260420T201326Z
LAST-MODIFIED:20260420T201326Z
UID:10002154-1784280600-1784286000@amicalolafallslodge.com
SUMMARY:Guided Waterfall Hike
DESCRIPTION:Join an interpreter on an adventurous hike to Amicalola Falls! This 1.5mi hike begins at our Visitor Center and follows along Little Amicalola Creek to our magnificent waterfall! Come see one of Georgia’s 7 Natural Wonders! Note that a guide is not required to hike the trails. For questions\, email a guide at naturalist@amicalolafallslodge.com \nReserve Your Spot Online
URL:https://amicalolafallslodge.com/event/guided-waterfall-hike-3/2026-07-17/
END:VEVENT
BEGIN:VEVENT
DTSTART;TZID=America/New_York:20260724T093000
DTEND;TZID=America/New_York:20260724T110000
DTSTAMP:20260421T111703
CREATED:20260420T201326Z
LAST-MODIFIED:20260420T201326Z
UID:10002155-1784885400-1784890800@amicalolafallslodge.com
SUMMARY:Guided Waterfall Hike
DESCRIPTION:Join an interpreter on an adventurous hike to Amicalola Falls! This 1.5mi hike begins at our Visitor Center and follows along Little Amicalola Creek to our magnificent waterfall! Come see one of Georgia’s 7 Natural Wonders! Note that a guide is not required to hike the trails. For questions\, email a guide at naturalist@amicalolafallslodge.com \nReserve Your Spot Online
URL:https://amicalolafallslodge.com/event/guided-waterfall-hike-3/2026-07-24/
END:VEVENT
BEGIN:VEVENT
DTSTART;TZID=America/New_York:20260731T093000
DTEND;TZID=America/New_York:20260731T110000
DTSTAMP:20260421T111703
CREATED:20260420T201326Z
LAST-MODIFIED:20260420T201326Z
UID:10002156-1785490200-1785495600@amicalolafallslodge.com
SUMMARY:Guided Waterfall Hike
DESCRIPTION:Join an interpreter on an adventurous hike to Amicalola Falls! This 1.5mi hike begins at our Visitor Center and follows along Little Amicalola Creek to our magnificent waterfall! Come see one of Georgia’s 7 Natural Wonders! Note that a guide is not required to hike the trails. For questions\, email a guide at naturalist@amicalolafallslodge.com \nReserve Your Spot Online
URL:https://amicalolafallslodge.com/event/guided-waterfall-hike-3/2026-07-31/
END:VEVENT
BEGIN:VEVENT
DTSTART;TZID=America/New_York:20260807T093000
DTEND;TZID=America/New_York:20260807T110000
DTSTAMP:20260421T111703
CREATED:20260420T201326Z
LAST-MODIFIED:20260420T201326Z
UID:10002157-1786095000-1786100400@amicalolafallslodge.com
SUMMARY:Guided Waterfall Hike
DESCRIPTION:Join an interpreter on an adventurous hike to Amicalola Falls! This 1.5mi hike begins at our Visitor Center and follows along Little Amicalola Creek to our magnificent waterfall! Come see one of Georgia’s 7 Natural Wonders! Note that a guide is not required to hike the trails. For questions\, email a guide at naturalist@amicalolafallslodge.com \nReserve Your Spot Online
URL:https://amicalolafallslodge.com/event/guided-waterfall-hike-3/2026-08-07/
END:VEVENT
BEGIN:VEVENT
DTSTART;TZID=America/New_York:20260814T093000
DTEND;TZID=America/New_York:20260814T110000
DTSTAMP:20260421T111703
CREATED:20260420T201326Z
LAST-MODIFIED:20260420T201326Z
UID:10002158-1786699800-1786705200@amicalolafallslodge.com
SUMMARY:Guided Waterfall Hike
DESCRIPTION:Join an interpreter on an adventurous hike to Amicalola Falls! This 1.5mi hike begins at our Visitor Center and follows along Little Amicalola Creek to our magnificent waterfall! Come see one of Georgia’s 7 Natural Wonders! Note that a guide is not required to hike the trails. For questions\, email a guide at naturalist@amicalolafallslodge.com \nReserve Your Spot Online
URL:https://amicalolafallslodge.com/event/guided-waterfall-hike-3/2026-08-14/
END:VEVENT
BEGIN:VEVENT
DTSTART;TZID=America/New_York:20260821T093000
DTEND;TZID=America/New_York:20260821T110000
DTSTAMP:20260421T111703
CREATED:20260420T201326Z
LAST-MODIFIED:20260420T201326Z
UID:10002159-1787304600-1787310000@amicalolafallslodge.com
SUMMARY:Guided Waterfall Hike
DESCRIPTION:Join an interpreter on an adventurous hike to Amicalola Falls! This 1.5mi hike begins at our Visitor Center and follows along Little Amicalola Creek to our magnificent waterfall! Come see one of Georgia’s 7 Natural Wonders! Note that a guide is not required to hike the trails. For questions\, email a guide at naturalist@amicalolafallslodge.com \nReserve Your Spot Online
URL:https://amicalolafallslodge.com/event/guided-waterfall-hike-3/2026-08-21/
END:VEVENT
BEGIN:VEVENT
DTSTART;TZID=America/New_York:20260828T093000
DTEND;TZID=America/New_York:20260828T110000
DTSTAMP:20260421T111703
CREATED:20260420T201326Z
LAST-MODIFIED:20260420T201326Z
UID:10002160-1787909400-1787914800@amicalolafallslodge.com
SUMMARY:Guided Waterfall Hike
DESCRIPTION:Join an interpreter on an adventurous hike to Amicalola Falls! This 1.5mi hike begins at our Visitor Center and follows along Little Amicalola Creek to our magnificent waterfall! Come see one of Georgia’s 7 Natural Wonders! Note that a guide is not required to hike the trails. For questions\, email a guide at naturalist@amicalolafallslodge.com \nReserve Your Spot Online
URL:https://amicalolafallslodge.com/event/guided-waterfall-hike-3/2026-08-28/
END:VEVENT
BEGIN:VEVENT
DTSTART;TZID=America/New_York:20260904T093000
DTEND;TZID=America/New_York:20260904T110000
DTSTAMP:20260421T111703
CREATED:20260420T201326Z
LAST-MODIFIED:20260420T201326Z
UID:10002161-1788514200-1788519600@amicalolafallslodge.com
SUMMARY:Guided Waterfall Hike
DESCRIPTION:Join an interpreter on an adventurous hike to Amicalola Falls! This 1.5mi hike begins at our Visitor Center and follows along Little Amicalola Creek to our magnificent waterfall! Come see one of Georgia’s 7 Natural Wonders! Note that a guide is not required to hike the trails. For questions\, email a guide at naturalist@amicalolafallslodge.com \nReserve Your Spot Online
URL:https://amicalolafallslodge.com/event/guided-waterfall-hike-3/2026-09-04/
END:VEVENT
BEGIN:VEVENT
DTSTART;TZID=America/New_York:20260911T093000
DTEND;TZID=America/New_York:20260911T110000
DTSTAMP:20260421T111703
CREATED:20260420T201326Z
LAST-MODIFIED:20260420T201326Z
UID:10002162-1789119000-1789124400@amicalolafallslodge.com
SUMMARY:Guided Waterfall Hike
DESCRIPTION:Join an interpreter on an adventurous hike to Amicalola Falls! This 1.5mi hike begins at our Visitor Center and follows along Little Amicalola Creek to our magnificent waterfall! Come see one of Georgia’s 7 Natural Wonders! Note that a guide is not required to hike the trails. For questions\, email a guide at naturalist@amicalolafallslodge.com \nReserve Your Spot Online
URL:https://amicalolafallslodge.com/event/guided-waterfall-hike-3/2026-09-11/
END:VEVENT
BEGIN:VEVENT
DTSTART;TZID=America/New_York:20260918T093000
DTEND;TZID=America/New_York:20260918T110000
DTSTAMP:20260421T111703
CREATED:20260420T201326Z
LAST-MODIFIED:20260420T201326Z
UID:10002163-1789723800-1789729200@amicalolafallslodge.com
SUMMARY:Guided Waterfall Hike
DESCRIPTION:Join an interpreter on an adventurous hike to Amicalola Falls! This 1.5mi hike begins at our Visitor Center and follows along Little Amicalola Creek to our magnificent waterfall! Come see one of Georgia’s 7 Natural Wonders! Note that a guide is not required to hike the trails. For questions\, email a guide at naturalist@amicalolafallslodge.com \nReserve Your Spot Online
URL:https://amicalolafallslodge.com/event/guided-waterfall-hike-3/2026-09-18/
END:VEVENT
BEGIN:VEVENT
DTSTART;TZID=America/New_York:20260925T093000
DTEND;TZID=America/New_York:20260925T110000
DTSTAMP:20260421T111703
CREATED:20260420T201326Z
LAST-MODIFIED:20260420T201326Z
UID:10002164-1790328600-1790334000@amicalolafallslodge.com
SUMMARY:Guided Waterfall Hike
DESCRIPTION:Join an interpreter on an adventurous hike to Amicalola Falls! This 1.5mi hike begins at our Visitor Center and follows along Little Amicalola Creek to our magnificent waterfall! Come see one of Georgia’s 7 Natural Wonders! Note that a guide is not required to hike the trails. For questions\, email a guide at naturalist@amicalolafallslodge.com \nReserve Your Spot Online
URL:https://amicalolafallslodge.com/event/guided-waterfall-hike-3/2026-09-25/
END:VEVENT
BEGIN:VEVENT
DTSTART;TZID=America/New_York:20261002T093000
DTEND;TZID=America/New_York:20261002T110000
DTSTAMP:20260421T111703
CREATED:20260420T201326Z
LAST-MODIFIED:20260420T201326Z
UID:10002165-1790933400-1790938800@amicalolafallslodge.com
SUMMARY:Guided Waterfall Hike
DESCRIPTION:Join an interpreter on an adventurous hike to Amicalola Falls! This 1.5mi hike begins at our Visitor Center and follows along Little Amicalola Creek to our magnificent waterfall! Come see one of Georgia’s 7 Natural Wonders! Note that a guide is not required to hike the trails. For questions\, email a guide at naturalist@amicalolafallslodge.com \nReserve Your Spot Online
URL:https://amicalolafallslodge.com/event/guided-waterfall-hike-3/2026-10-02/
END:VEVENT
BEGIN:VEVENT
DTSTART;TZID=America/New_York:20261009T093000
DTEND;TZID=America/New_York:20261009T110000
DTSTAMP:20260421T111703
CREATED:20260420T201326Z
LAST-MODIFIED:20260420T201326Z
UID:10002166-1791538200-1791543600@amicalolafallslodge.com
SUMMARY:Guided Waterfall Hike
DESCRIPTION:Join an interpreter on an adventurous hike to Amicalola Falls! This 1.5mi hike begins at our Visitor Center and follows along Little Amicalola Creek to our magnificent waterfall! Come see one of Georgia’s 7 Natural Wonders! Note that a guide is not required to hike the trails. For questions\, email a guide at naturalist@amicalolafallslodge.com \nReserve Your Spot Online
URL:https://amicalolafallslodge.com/event/guided-waterfall-hike-3/2026-10-09/
END:VEVENT
BEGIN:VEVENT
DTSTART;TZID=America/New_York:20261016T093000
DTEND;TZID=America/New_York:20261016T110000
DTSTAMP:20260421T111703
CREATED:20260420T201326Z
LAST-MODIFIED:20260420T201326Z
UID:10002167-1792143000-1792148400@amicalolafallslodge.com
SUMMARY:Guided Waterfall Hike
DESCRIPTION:Join an interpreter on an adventurous hike to Amicalola Falls! This 1.5mi hike begins at our Visitor Center and follows along Little Amicalola Creek to our magnificent waterfall! Come see one of Georgia’s 7 Natural Wonders! Note that a guide is not required to hike the trails. For questions\, email a guide at naturalist@amicalolafallslodge.com \nReserve Your Spot Online
URL:https://amicalolafallslodge.com/event/guided-waterfall-hike-3/2026-10-16/
END:VEVENT
BEGIN:VEVENT
DTSTART;TZID=America/New_York:20261023T093000
DTEND;TZID=America/New_York:20261023T110000
DTSTAMP:20260421T111703
CREATED:20260420T201326Z
LAST-MODIFIED:20260420T201326Z
UID:10002168-1792747800-1792753200@amicalolafallslodge.com
SUMMARY:Guided Waterfall Hike
DESCRIPTION:Join an interpreter on an adventurous hike to Amicalola Falls! This 1.5mi hike begins at our Visitor Center and follows along Little Amicalola Creek to our magnificent waterfall! Come see one of Georgia’s 7 Natural Wonders! Note that a guide is not required to hike the trails. For questions\, email a guide at naturalist@amicalolafallslodge.com \nReserve Your Spot Online
URL:https://amicalolafallslodge.com/event/guided-waterfall-hike-3/2026-10-23/
END:VEVENT
BEGIN:VEVENT
DTSTART;TZID=America/New_York:20261030T093000
DTEND;TZID=America/New_York:20261030T110000
DTSTAMP:20260421T111703
CREATED:20260420T201326Z
LAST-MODIFIED:20260420T201326Z
UID:10002169-1793352600-1793358000@amicalolafallslodge.com
SUMMARY:Guided Waterfall Hike
DESCRIPTION:Join an interpreter on an adventurous hike to Amicalola Falls! This 1.5mi hike begins at our Visitor Center and follows along Little Amicalola Creek to our magnificent waterfall! Come see one of Georgia’s 7 Natural Wonders! Note that a guide is not required to hike the trails. For questions\, email a guide at naturalist@amicalolafallslodge.com \nReserve Your Spot Online
URL:https://amicalolafallslodge.com/event/guided-waterfall-hike-3/2026-10-30/
END:VEVENT
BEGIN:VEVENT
DTSTART;TZID=America/New_York:20261106T093000
DTEND;TZID=America/New_York:20261106T110000
DTSTAMP:20260421T111703
CREATED:20260420T201326Z
LAST-MODIFIED:20260420T201326Z
UID:10002170-1793957400-1793962800@amicalolafallslodge.com
SUMMARY:Guided Waterfall Hike
DESCRIPTION:Join an interpreter on an adventurous hike to Amicalola Falls! This 1.5mi hike begins at our Visitor Center and follows along Little Amicalola Creek to our magnificent waterfall! Come see one of Georgia’s 7 Natural Wonders! Note that a guide is not required to hike the trails. For questions\, email a guide at naturalist@amicalolafallslodge.com \nReserve Your Spot Online
URL:https://amicalolafallslodge.com/event/guided-waterfall-hike-3/2026-11-06/
END:VEVENT
BEGIN:VEVENT
DTSTART;TZID=America/New_York:20261113T093000
DTEND;TZID=America/New_York:20261113T110000
DTSTAMP:20260421T111703
CREATED:20260420T201326Z
LAST-MODIFIED:20260420T201326Z
UID:10002171-1794562200-1794567600@amicalolafallslodge.com
SUMMARY:Guided Waterfall Hike
DESCRIPTION:Join an interpreter on an adventurous hike to Amicalola Falls! This 1.5mi hike begins at our Visitor Center and follows along Little Amicalola Creek to our magnificent waterfall! Come see one of Georgia’s 7 Natural Wonders! Note that a guide is not required to hike the trails. For questions\, email a guide at naturalist@amicalolafallslodge.com \nReserve Your Spot Online
URL:https://amicalolafallslodge.com/event/guided-waterfall-hike-3/2026-11-13/
END:VEVENT
BEGIN:VEVENT
DTSTART;TZID=America/New_York:20261120T093000
DTEND;TZID=America/New_York:20261120T110000
DTSTAMP:20260421T111703
CREATED:20260420T201326Z
LAST-MODIFIED:20260420T201326Z
UID:10002172-1795167000-1795172400@amicalolafallslodge.com
SUMMARY:Guided Waterfall Hike
DESCRIPTION:Join an interpreter on an adventurous hike to Amicalola Falls! This 1.5mi hike begins at our Visitor Center and follows along Little Amicalola Creek to our magnificent waterfall! Come see one of Georgia’s 7 Natural Wonders! Note that a guide is not required to hike the trails. For questions\, email a guide at naturalist@amicalolafallslodge.com \nReserve Your Spot Online
URL:https://amicalolafallslodge.com/event/guided-waterfall-hike-3/2026-11-20/
END:VEVENT
BEGIN:VEVENT
DTSTART;TZID=America/New_York:20261127T093000
DTEND;TZID=America/New_York:20261127T110000
DTSTAMP:20260421T111703
CREATED:20260420T201326Z
LAST-MODIFIED:20260420T201326Z
UID:10002173-1795771800-1795777200@amicalolafallslodge.com
SUMMARY:Guided Waterfall Hike
DESCRIPTION:Join an interpreter on an adventurous hike to Amicalola Falls! This 1.5mi hike begins at our Visitor Center and follows along Little Amicalola Creek to our magnificent waterfall! Come see one of Georgia’s 7 Natural Wonders! Note that a guide is not required to hike the trails. For questions\, email a guide at naturalist@amicalolafallslodge.com \nReserve Your Spot Online
URL:https://amicalolafallslodge.com/event/guided-waterfall-hike-3/2026-11-27/
END:VEVENT
END:VCALENDAR