BEGIN:VCALENDAR
VERSION:2.0
PRODID:-//Amicalola Falls State Park &amp; Lodge - Dawsonville, GA - ECPv6.15.20//NONSGML v1.0//EN
CALSCALE:GREGORIAN
METHOD:PUBLISH
X-WR-CALNAME:Amicalola Falls State Park &amp; Lodge - Dawsonville, GA
X-ORIGINAL-URL:https://amicalolafallslodge.com
X-WR-CALDESC:Events for Amicalola Falls State Park &amp; Lodge - Dawsonville, GA
REFRESH-INTERVAL;VALUE=DURATION:PT1H
X-Robots-Tag:noindex
X-PUBLISHED-TTL:PT1H
BEGIN:VTIMEZONE
TZID:America/New_York
BEGIN:DAYLIGHT
TZOFFSETFROM:-0500
TZOFFSETTO:-0400
TZNAME:EDT
DTSTART:20250309T070000
END:DAYLIGHT
BEGIN:STANDARD
TZOFFSETFROM:-0400
TZOFFSETTO:-0500
TZNAME:EST
DTSTART:20251102T060000
END:STANDARD
BEGIN:DAYLIGHT
TZOFFSETFROM:-0500
TZOFFSETTO:-0400
TZNAME:EDT
DTSTART:20260308T070000
END:DAYLIGHT
BEGIN:STANDARD
TZOFFSETFROM:-0400
TZOFFSETTO:-0500
TZNAME:EST
DTSTART:20261101T060000
END:STANDARD
BEGIN:DAYLIGHT
TZOFFSETFROM:-0500
TZOFFSETTO:-0400
TZNAME:EDT
DTSTART:20270314T070000
END:DAYLIGHT
BEGIN:STANDARD
TZOFFSETFROM:-0400
TZOFFSETTO:-0500
TZNAME:EST
DTSTART:20271107T060000
END:STANDARD
END:VTIMEZONE
BEGIN:VEVENT
DTSTART;TZID=America/New_York:20260506T093000
DTEND;TZID=America/New_York:20260506T110000
DTSTAMP:20260421T090448
CREATED:20260420T201200Z
LAST-MODIFIED:20260420T201200Z
UID:10002141-1778059800-1778065200@amicalolafallslodge.com
SUMMARY:Guided Waterfall Hike
DESCRIPTION:Join an interpreter on an adventurous hike to Amicalola Falls! This 1.5mi hike begins at our Visitor Center and follows along Little Amicalola Creek to our magnificent waterfall! Come see one of Georgia’s 7 Natural Wonders! Note that a guide is not required to hike the trails. For questions\, email a guide at naturalist@amicalolafallslodge.com \nReserve Your Spot Online
URL:https://amicalolafallslodge.com/event/guided-waterfall-hike-2/2026-05-06/
LOCATION:Amicalola Falls Visitor Center\, 418 Amicalola Falls Lodge Road\, Dawsonville\, GA\, 30534\, United States
END:VEVENT
BEGIN:VEVENT
DTSTART;TZID=America/New_York:20260513T093000
DTEND;TZID=America/New_York:20260513T110000
DTSTAMP:20260421T090448
CREATED:20260420T201200Z
LAST-MODIFIED:20260420T201200Z
UID:10002142-1778664600-1778670000@amicalolafallslodge.com
SUMMARY:Guided Waterfall Hike
DESCRIPTION:Join an interpreter on an adventurous hike to Amicalola Falls! This 1.5mi hike begins at our Visitor Center and follows along Little Amicalola Creek to our magnificent waterfall! Come see one of Georgia’s 7 Natural Wonders! Note that a guide is not required to hike the trails. For questions\, email a guide at naturalist@amicalolafallslodge.com \nReserve Your Spot Online
URL:https://amicalolafallslodge.com/event/guided-waterfall-hike-2/2026-05-13/
LOCATION:Amicalola Falls Visitor Center\, 418 Amicalola Falls Lodge Road\, Dawsonville\, GA\, 30534\, United States
END:VEVENT
BEGIN:VEVENT
DTSTART;TZID=America/New_York:20260527T093000
DTEND;TZID=America/New_York:20260527T110000
DTSTAMP:20260421T090448
CREATED:20260420T201200Z
LAST-MODIFIED:20260420T201200Z
UID:10002143-1779874200-1779879600@amicalolafallslodge.com
SUMMARY:Guided Waterfall Hike
DESCRIPTION:Join an interpreter on an adventurous hike to Amicalola Falls! This 1.5mi hike begins at our Visitor Center and follows along Little Amicalola Creek to our magnificent waterfall! Come see one of Georgia’s 7 Natural Wonders! Note that a guide is not required to hike the trails. For questions\, email a guide at naturalist@amicalolafallslodge.com \nReserve Your Spot Online
URL:https://amicalolafallslodge.com/event/guided-waterfall-hike-2/2026-05-27/
LOCATION:Amicalola Falls Visitor Center\, 418 Amicalola Falls Lodge Road\, Dawsonville\, GA\, 30534\, United States
END:VEVENT
END:VCALENDAR