BEGIN:VCALENDAR
VERSION:2.0
PRODID:-//Amicalola Falls State Park &amp; Lodge - Dawsonville, GA - ECPv6.15.20//NONSGML v1.0//EN
CALSCALE:GREGORIAN
METHOD:PUBLISH
X-WR-CALNAME:Amicalola Falls State Park &amp; Lodge - Dawsonville, GA
X-ORIGINAL-URL:https://amicalolafallslodge.com
X-WR-CALDESC:Events for Amicalola Falls State Park &amp; Lodge - Dawsonville, GA
REFRESH-INTERVAL;VALUE=DURATION:PT1H
X-Robots-Tag:noindex
X-PUBLISHED-TTL:PT1H
BEGIN:VTIMEZONE
TZID:America/New_York
BEGIN:DAYLIGHT
TZOFFSETFROM:-0500
TZOFFSETTO:-0400
TZNAME:EDT
DTSTART:20250309T070000
END:DAYLIGHT
BEGIN:STANDARD
TZOFFSETFROM:-0400
TZOFFSETTO:-0500
TZNAME:EST
DTSTART:20251102T060000
END:STANDARD
BEGIN:DAYLIGHT
TZOFFSETFROM:-0500
TZOFFSETTO:-0400
TZNAME:EDT
DTSTART:20260308T070000
END:DAYLIGHT
BEGIN:STANDARD
TZOFFSETFROM:-0400
TZOFFSETTO:-0500
TZNAME:EST
DTSTART:20261101T060000
END:STANDARD
BEGIN:DAYLIGHT
TZOFFSETFROM:-0500
TZOFFSETTO:-0400
TZNAME:EDT
DTSTART:20270314T070000
END:DAYLIGHT
BEGIN:STANDARD
TZOFFSETFROM:-0400
TZOFFSETTO:-0500
TZNAME:EST
DTSTART:20271107T060000
END:STANDARD
END:VTIMEZONE
BEGIN:VEVENT
DTSTART;TZID=America/New_York:20260509T130000
DTEND;TZID=America/New_York:20260509T130000
DTSTAMP:20260421T222608
CREATED:20260420T200519Z
LAST-MODIFIED:20260420T200519Z
UID:10002136-1778331600-1778331600@amicalolafallslodge.com
SUMMARY:Explore & Identify: A Nature ID Walk
DESCRIPTION:Join Georgia Master Naturalists as we explore the native flora and fauna of an Amicalola Spring. In this program\, we will be diving into the identification app\, iNaturalist\, learning to use field guides\, and other nature identification apps! Meeting location: Visitor Center Reserve Your Spot Online
URL:https://amicalolafallslodge.com/event/explore-identify-a-nature-id-walk-2/2026-05-09/
LOCATION:Amicalola Falls Visitor Center\, 418 Amicalola Falls Lodge Road\, Dawsonville\, GA\, 30534\, United States
END:VEVENT
BEGIN:VEVENT
DTSTART;TZID=America/New_York:20260523T130000
DTEND;TZID=America/New_York:20260523T130000
DTSTAMP:20260421T222608
CREATED:20260420T200519Z
LAST-MODIFIED:20260420T200519Z
UID:10002137-1779541200-1779541200@amicalolafallslodge.com
SUMMARY:Explore & Identify: A Nature ID Walk
DESCRIPTION:Join Georgia Master Naturalists as we explore the native flora and fauna of an Amicalola Spring. In this program\, we will be diving into the identification app\, iNaturalist\, learning to use field guides\, and other nature identification apps! Meeting location: Visitor Center Reserve Your Spot Online
URL:https://amicalolafallslodge.com/event/explore-identify-a-nature-id-walk-2/2026-05-23/
LOCATION:Amicalola Falls Visitor Center\, 418 Amicalola Falls Lodge Road\, Dawsonville\, GA\, 30534\, United States
END:VEVENT
END:VCALENDAR