BEGIN:VCALENDAR
VERSION:2.0
PRODID:-//Amicalola Falls State Park &amp; Lodge - Dawsonville, GA - ECPv6.15.20//NONSGML v1.0//EN
CALSCALE:GREGORIAN
METHOD:PUBLISH
X-WR-CALNAME:Amicalola Falls State Park &amp; Lodge - Dawsonville, GA
X-ORIGINAL-URL:https://amicalolafallslodge.com
X-WR-CALDESC:Events for Amicalola Falls State Park &amp; Lodge - Dawsonville, GA
REFRESH-INTERVAL;VALUE=DURATION:PT1H
X-Robots-Tag:noindex
X-PUBLISHED-TTL:PT1H
BEGIN:VTIMEZONE
TZID:America/New_York
BEGIN:DAYLIGHT
TZOFFSETFROM:-0500
TZOFFSETTO:-0400
TZNAME:EDT
DTSTART:20250309T070000
END:DAYLIGHT
BEGIN:STANDARD
TZOFFSETFROM:-0400
TZOFFSETTO:-0500
TZNAME:EST
DTSTART:20251102T060000
END:STANDARD
BEGIN:DAYLIGHT
TZOFFSETFROM:-0500
TZOFFSETTO:-0400
TZNAME:EDT
DTSTART:20260308T070000
END:DAYLIGHT
BEGIN:STANDARD
TZOFFSETFROM:-0400
TZOFFSETTO:-0500
TZNAME:EST
DTSTART:20261101T060000
END:STANDARD
BEGIN:DAYLIGHT
TZOFFSETFROM:-0500
TZOFFSETTO:-0400
TZNAME:EDT
DTSTART:20270314T070000
END:DAYLIGHT
BEGIN:STANDARD
TZOFFSETFROM:-0400
TZOFFSETTO:-0500
TZNAME:EST
DTSTART:20271107T060000
END:STANDARD
END:VTIMEZONE
BEGIN:VEVENT
DTSTART;TZID=America/New_York:20260502T130000
DTEND;TZID=America/New_York:20260502T130000
DTSTAMP:20260421T013341
CREATED:20260420T195256Z
LAST-MODIFIED:20260420T195256Z
UID:10002121-1777726800-1777726800@amicalolafallslodge.com
SUMMARY:Animals of Amicalola Falls
DESCRIPTION:Join a park naturalist to learn about animals’ native to Amicalola Falls State Park during this 30-minute program! Learn amazing facts about our backyard heroes and what you can do to help protect them. Programs may include up to 2 of the following live animals: various species of snake\, box turtle\, hawk\, and or owl. Presentations take place in the Lodge Lobby. \n\n\nOur animals may occasionally need the day off; in the rare event an animal is not available for this program\, all cancelations will be communicated. Thank you for understanding. \nReserve Your Spot Online
URL:https://amicalolafallslodge.com/event/animals-of-amicalola-falls-11/2026-05-02/
LOCATION:Amicalola Falls Lodge Lobby\, 418 Amicalola Falls Lodge Road\, Dawsonville\, GA\, 30534\, United States
END:VEVENT
BEGIN:VEVENT
DTSTART;TZID=America/New_York:20260509T130000
DTEND;TZID=America/New_York:20260509T130000
DTSTAMP:20260421T013341
CREATED:20260420T195256Z
LAST-MODIFIED:20260420T195256Z
UID:10002122-1778331600-1778331600@amicalolafallslodge.com
SUMMARY:Animals of Amicalola Falls
DESCRIPTION:Join a park naturalist to learn about animals’ native to Amicalola Falls State Park during this 30-minute program! Learn amazing facts about our backyard heroes and what you can do to help protect them. Programs may include up to 2 of the following live animals: various species of snake\, box turtle\, hawk\, and or owl. Presentations take place in the Lodge Lobby. \n\n\nOur animals may occasionally need the day off; in the rare event an animal is not available for this program\, all cancelations will be communicated. Thank you for understanding. \nReserve Your Spot Online
URL:https://amicalolafallslodge.com/event/animals-of-amicalola-falls-11/2026-05-09/
LOCATION:Amicalola Falls Lodge Lobby\, 418 Amicalola Falls Lodge Road\, Dawsonville\, GA\, 30534\, United States
END:VEVENT
BEGIN:VEVENT
DTSTART;TZID=America/New_York:20260516T130000
DTEND;TZID=America/New_York:20260516T130000
DTSTAMP:20260421T013341
CREATED:20260420T195256Z
LAST-MODIFIED:20260420T195256Z
UID:10002123-1778936400-1778936400@amicalolafallslodge.com
SUMMARY:Animals of Amicalola Falls
DESCRIPTION:Join a park naturalist to learn about animals’ native to Amicalola Falls State Park during this 30-minute program! Learn amazing facts about our backyard heroes and what you can do to help protect them. Programs may include up to 2 of the following live animals: various species of snake\, box turtle\, hawk\, and or owl. Presentations take place in the Lodge Lobby. \n\n\nOur animals may occasionally need the day off; in the rare event an animal is not available for this program\, all cancelations will be communicated. Thank you for understanding. \nReserve Your Spot Online
URL:https://amicalolafallslodge.com/event/animals-of-amicalola-falls-11/2026-05-16/
LOCATION:Amicalola Falls Lodge Lobby\, 418 Amicalola Falls Lodge Road\, Dawsonville\, GA\, 30534\, United States
END:VEVENT
BEGIN:VEVENT
DTSTART;TZID=America/New_York:20260523T130000
DTEND;TZID=America/New_York:20260523T130000
DTSTAMP:20260421T013341
CREATED:20260420T195256Z
LAST-MODIFIED:20260420T195256Z
UID:10002124-1779541200-1779541200@amicalolafallslodge.com
SUMMARY:Animals of Amicalola Falls
DESCRIPTION:Join a park naturalist to learn about animals’ native to Amicalola Falls State Park during this 30-minute program! Learn amazing facts about our backyard heroes and what you can do to help protect them. Programs may include up to 2 of the following live animals: various species of snake\, box turtle\, hawk\, and or owl. Presentations take place in the Lodge Lobby. \n\n\nOur animals may occasionally need the day off; in the rare event an animal is not available for this program\, all cancelations will be communicated. Thank you for understanding. \nReserve Your Spot Online
URL:https://amicalolafallslodge.com/event/animals-of-amicalola-falls-11/2026-05-23/
LOCATION:Amicalola Falls Lodge Lobby\, 418 Amicalola Falls Lodge Road\, Dawsonville\, GA\, 30534\, United States
END:VEVENT
BEGIN:VEVENT
DTSTART;TZID=America/New_York:20260530T130000
DTEND;TZID=America/New_York:20260530T130000
DTSTAMP:20260421T013341
CREATED:20260420T195256Z
LAST-MODIFIED:20260420T195256Z
UID:10002125-1780146000-1780146000@amicalolafallslodge.com
SUMMARY:Animals of Amicalola Falls
DESCRIPTION:Join a park naturalist to learn about animals’ native to Amicalola Falls State Park during this 30-minute program! Learn amazing facts about our backyard heroes and what you can do to help protect them. Programs may include up to 2 of the following live animals: various species of snake\, box turtle\, hawk\, and or owl. Presentations take place in the Lodge Lobby. \n\n\nOur animals may occasionally need the day off; in the rare event an animal is not available for this program\, all cancelations will be communicated. Thank you for understanding. \nReserve Your Spot Online
URL:https://amicalolafallslodge.com/event/animals-of-amicalola-falls-11/2026-05-30/
LOCATION:Amicalola Falls Lodge Lobby\, 418 Amicalola Falls Lodge Road\, Dawsonville\, GA\, 30534\, United States
END:VEVENT
END:VCALENDAR